BEGIN:VCALENDAR
VERSION:2.0
PRODID:-//eventon.com NONSGML v1.0//EN
CALSCALE:GREGORIAN
METHOD:PUBLISH
BEGIN:VEVENT
UID:69ecce760054b
DTSTAMP:20260425T142350Z
DTSTART:20260512T180000Z
DTEND:20260512T225900Z
LOCATION:
SUMMARY:Samit Patel
DESCRIPTION:Fothers &amp; Friends with Samit Patel 🏏 | Tues 12th May Spe
 nd an evening with Nottinghamshire County Cricket Club legend Samit Patel\,
   sharing stories and memories in conversation with Simon Fotheringham. Boo
 kings are now being taken &#8211; £25pp includes: 💭 Cricket Quiz 🎤 L
 ive Interview ❓ Audience Q &amp; A[..]\nhttps://www.thewilliamgunn.co.uk/
 events/samit-patel/
URL:https://www.thewilliamgunn.co.uk/events/samit-patel/
END:VEVENT
END:VCALENDAR