BEGIN:VCALENDAR
VERSION:2.0
PRODID:-//eventon.com NONSGML v1.0//EN
CALSCALE:GREGORIAN
METHOD:PUBLISH
BEGIN:VEVENT
UID:69eccefc49e24
DTSTAMP:20260425T142604Z
DTSTART:20260527T180000Z
DTEND:20260527T225900Z
LOCATION:
SUMMARY:The History Boys Book Launch
DESCRIPTION:Join us at The William Gunn as author David Marples launches hi
 s new book\,  The History Boys. The book explores 30 pivotal moments and ke
 y Nottingham Forest goals from over 160 years of history. David will be joi
 ned by BBC Radio Nottingham commentator Colin Fray\,  whose voice has follo
 wed many[..]\nhttps://www.thewilliamgunn.co.uk/events/the-history-boys-book
 -launch/
URL:https://www.thewilliamgunn.co.uk/events/the-history-boys-book-launch/
END:VEVENT
END:VCALENDAR