BEGIN:VCALENDAR
VERSION:2.0
PRODID:-//eventon.com NONSGML v1.0//EN
CALSCALE:GREGORIAN
METHOD:PUBLISH
BEGIN:VEVENT
UID:69ec94ca71ccb
DTSTAMP:20260425T101746Z
DTSTART:20240304T190000Z
DTEND:20240304T235000Z
LOCATION:
SUMMARY:The All Rounder - Quiz
DESCRIPTION:Join us for our monthly charity quiz on the first Tuesday of ev
 ery Month. This month in support of Nottinghamshire Leukaemia Appeal Hosted
  by the eminent Mr Simon Fotheringham\,  starting at 7:30pm sharp and will 
 feature the following five rounds&#8230; Pictures On this day Sport TV and 
 Film Music Book[..]\nhttps://www.thewilliamgunn.co.uk/events/the-all-rounde
 r-nottinghamshire-leukaemia-appeal/
URL:https://www.thewilliamgunn.co.uk/events/the-all-rounder-nottinghamshire-leukaemia-appeal/
END:VEVENT
END:VCALENDAR